BEGIN:VCALENDAR
VERSION:2.0
PRODID:-//192.250.227.130//NONSGML kigkonsult.se iCalcreator 2.26.9//
CALSCALE:GREGORIAN
METHOD:PUBLISH
X-FROM-URL:https://pcniarlington.com/home
X-WR-TIMEZONE:Atlantic/Azores
BEGIN:VTIMEZONE
TZID:Atlantic/Azores
X-LIC-LOCATION:Atlantic/Azores
BEGIN:STANDARD
DTSTART:20251026T010000
TZOFFSETFROM:+0000
TZOFFSETTO:-0100
RDATE:20261025T010000
TZNAME:-01
END:STANDARD
BEGIN:DAYLIGHT
DTSTART:20260329T000000
TZOFFSETFROM:-0100
TZOFFSETTO:+0000
RDATE:20270328T000000
TZNAME:+00
END:DAYLIGHT
END:VTIMEZONE
BEGIN:VEVENT
UID:ai1ec-3783@pcniarlington.com/home
DTSTAMP:20260421T122005Z
CATEGORIES:
CONTACT:
DESCRIPTION:<div class='et-l et-l--post'>\n			<div class='et_builder_inner_con
 tent et_pb_gutters3'>\n		<p>PCNI Arlington Monthly Meetings</p>\n\n		</div>\n	<
 /div>
DTSTART;TZID=Atlantic/Azores:20230513T170000
DTEND;TZID=Atlantic/Azores:20230513T200000
GEO:+32.797087;-96.635712
LOCATION:ICAN (Igbo) Center @ 2425 Gus Thomasson Rd\, Mesquite\, TX 75150\,
  USA
RRULE:FREQ=MONTHLY;BYDAY=2SA
SEQUENCE:0
SUMMARY:PCNI Arlington Monthly Meeting
URL:https://pcniarlington.com/home/event/pcni-arlington-monthly-meeting-2/
X-COST-TYPE:free
END:VEVENT
END:VCALENDAR
